BEGIN:VCALENDAR
VERSION:2.0
PRODID:-//wp-events-plugin.com//7.2.3.1//EN
BEGIN:VEVENT
UID:25@vmoe.at
DTSTART:20200514T150000Z
DTEND:20200514T160000Z
DTSTAMP:20200513T102746Z
URL:https://www.vmoe.at/events/vmo-online-workshop-every-voice-gets-the-we
 igt-its-deserves/
SUMMARY:VMÖ Online Workshop „Every voice gets the weigt its deserves“
DESCRIPTION:Der VMÖ lädt am Donnerstag\, 14. Mai 2020 zum einstündigen W
 orkshop mit Florian Kögl zum Thema „Bayes Statistik“ ein. Dabei werde
 n auf einfache Weise die Grundzüge einer Statistik Software erklärt. Anh
 and eines konkreten Fallbeispiels zeigt Kögl die Anwendung von REDEM und 
 die Qualitätsverbesserung der Ergebnisse.\n\nSozial erwünschte Antworten
 \, Speeding und oberflächliches Beantworten sind gängige Probleme der Um
 frageforschung. Der Herausforderung dieses Problem zu lösen\, hat sich da
 s Team von Redem verschrieben und dafür eine spezielle Software entwickel
 t.\n\nREDEM beruht auf einen Algorithmus\, der es ermöglicht\, die Antwor
 tqualität von Umfrageteilnehmern einfach zu messen. Dieser Algorithmus ba
 siert auf einer über 10-jährigen Forschung des Massachusetts Institute o
 f Technology (MIT)\, die als Bayesian Truth Serum bezeichnet wird. Der Anw
 ender erhält eine Gegenüberstellung der gewichteten und ungewichteten Er
 gebnisse\, die einen guten Überblick über vorhandene Abweichungen gibt. 
 Damit können vorhandene Verzerrungen ganz einfach identifiziert und die E
 rgebnisse entzerrt werden.\n\nFlorian Kögl ist Gründer und CEO von Redem
  mit Sitz in Linz\, Oberösterreich. Seit 2019 arbeiten sein Team und er a
 n einer Technologie\, die der Marktforschung hilft\, Umfrageergebnisse in 
 ihrer Genauigkeit und Qualität zu verbessern. 2019 wurde er vom Forbes Ma
 gazine auf die bekannte Liste der 30 unter 30 gewählt und ist mittlerweil
 e seit 7 Jahren unternehmerisch tätig.\n\nVMÖ Empfehlung: Interessant f
 ür alle Markt- und Meinungsforscher\, die die Qualität von Befragungsdat
 en auf einfache Weise kontrollieren und verbessern möchten.\n\nDatum: Don
 nerstag\, 14. Mai 2020 | Beginn 16:00 Uhr | Dauer: ca. 1 Stunde\nInteresse
 nten melden sich per email an: anmeldung@vmoe.at\nDie Zugangsdaten werden 
 Ihnen nach Ihrer Anmeldung zugesendet.\nDie Teilnahme ist für VMÖ Mitgli
 eder kostenlos.
CATEGORIES:VMÖ Events
END:VEVENT
END:VCALENDAR