BEGIN:VCALENDAR
VERSION:2.0
PRODID:-//wp-events-plugin.com//7.2.3.1//EN
BEGIN:VEVENT
UID:22@vmoe.at
DTSTART:20200319T160000Z
DTEND:20200319T200000Z
DTSTAMP:20200316T105338Z
URL:https://www.vmoe.at/events/insights-austria-2020/
SUMMARY:VMÖ Event am 19. März 2020 "Insights Austria"VMÖ Event "Insights
  Austria" wird verschoben!
DESCRIPTION:hier ein kleiner auszug
CATEGORIES:VMÖ Events
END:VEVENT
END:VCALENDAR